BEGIN:VCALENDAR
VERSION:2.0
PRODID:-//https://www.langeberg.gov.za//NONSGML kigkonsult.se iCalcreator 2
 .23.20//
METHOD:PUBLISH
X-WR-CALNAME:JCal Pro Calendar
X-WR-CALDESC:Your online events calendar
X-WR-TIMEZONE:Africa/Johannesburg
BEGIN:VTIMEZONE
TZID:Africa/Johannesburg
BEGIN:STANDARD
DTSTART:19440319T020000
TZOFFSETFROM:+0300
TZOFFSETTO:+0200
TZNAME:SAST
END:STANDARD
END:VTIMEZONE
BEGIN:VEVENT
UID:20210622T100000SAST-2392GsBvop@https://www.langeberg.gov.za/
DTSTAMP:20210810T152623Z
CATEGORIES:Council Meeting
DESCRIPTION:
DTSTART;TZID=Africa/Johannesburg:20210622T100000
DTEND;TZID=Africa/Johannesburg:20210622T110000
SUMMARY:Ordinary Meeting of Council 
URL:https://www.langeberg.gov.za/component/jcalpro/259-council-meeting/36-o
 rdinary-meeting-of-council
END:VEVENT
END:VCALENDAR
